BEGIN:VCALENDAR
VERSION:2.0
PRODID:-//hacksw/handcal//NONSGML v1.0//EN
CALSCALE:GREGORIAN
BEGIN:VEVENT
DTEND:20071013T230000Z
UID:69ecf41e41896
DTSTAMP:20260425T180430Z
LOCATION:0 
DESCRIPTION:
URL;VALUE=URI:
SUMMARY:4. Wieslocher Volksbanklauf über 5 und 10 km
DTSTART:20071013T230000Z
END:VEVENT
END:VCALENDAR
An internal server error occurred.