BEGIN:VCALENDAR
VERSION:2.0
PRODID:-//hacksw/handcal//NONSGML v1.0//EN
CALSCALE:GREGORIAN
BEGIN:VEVENT
DTEND:20071012T230000Z
UID:69ed525fb9844
DTSTAMP:20260426T004639Z
LOCATION:0 
DESCRIPTION:
URL;VALUE=URI:
SUMMARY:11. Oberschwäbischer Walking- und Nordic-Walking Treff -Tettnang
DTSTART:20071012T230000Z
END:VEVENT
END:VCALENDAR
An internal server error occurred.