BEGIN:VCALENDAR
VERSION:2.0
PRODID:-//hacksw/handcal//NONSGML v1.0//EN
CALSCALE:GREGORIAN
BEGIN:VEVENT
DTEND:20071005T230000Z
UID:69ed939acd1da
DTSTAMP:20260426T052458Z
LOCATION:0 
DESCRIPTION:
URL;VALUE=URI:
SUMMARY:9. Reebok Stadtlauf des SC DHfK Leipzig / 11. Lauf Lichtenauer Sachsen-Cup 2007
DTSTART:20071005T230000Z
END:VEVENT
END:VCALENDAR
An internal server error occurred.