BEGIN:VCALENDAR
VERSION:2.0
PRODID:-//hacksw/handcal//NONSGML v1.0//EN
CALSCALE:GREGORIAN
BEGIN:VEVENT
DTEND:20071002T230000Z
UID:69ebe863a3177
DTSTAMP:20260424T230211Z
LOCATION:0 
DESCRIPTION:
URL;VALUE=URI:
SUMMARY:12. Nürnberger Stadtlauf - Preis der Nürnberger Nachrichten
DTSTART:20071002T230000Z
END:VEVENT
END:VCALENDAR
An internal server error occurred.