BEGIN:VCALENDAR
VERSION:2.0
PRODID:-//hacksw/handcal//NONSGML v1.0//EN
CALSCALE:GREGORIAN
BEGIN:VEVENT
DTEND:20070929T230000Z
UID:69ebdf58041a2
DTSTAMP:20260424T222336Z
LOCATION:0 
DESCRIPTION:
URL;VALUE=URI:
SUMMARY:23. Gröbenbachlauf und 19. Minilauf f. Schüler
DTSTART:20070929T230000Z
END:VEVENT
END:VCALENDAR
An internal server error occurred.