BEGIN:VCALENDAR
VERSION:2.0
PRODID:-//hacksw/handcal//NONSGML v1.0//EN
CALSCALE:GREGORIAN
BEGIN:VEVENT
DTEND:20070928T230000Z
UID:69ed6bd039b00
DTSTAMP:20260426T023512Z
LOCATION:0 
DESCRIPTION:
URL;VALUE=URI:
SUMMARY:13. Altburger Volkslauf und 5. Lauf zum ALB-Nagold-Enz-Cup
DTSTART:20070928T230000Z
END:VEVENT
END:VCALENDAR
An internal server error occurred.