BEGIN:VCALENDAR
VERSION:2.0
PRODID:-//hacksw/handcal//NONSGML v1.0//EN
CALSCALE:GREGORIAN
BEGIN:VEVENT
DTEND:20070922T230000Z
UID:69ebc1701f6d5
DTSTAMP:20260424T201600Z
LOCATION:0 
DESCRIPTION:
URL;VALUE=URI:
SUMMARY:2. WLV-Volkslauf im Rahmen des World Athletics Finale 
DTSTART:20070922T230000Z
END:VEVENT
END:VCALENDAR
An internal server error occurred.