BEGIN:VCALENDAR
VERSION:2.0
PRODID:-//hacksw/handcal//NONSGML v1.0//EN
CALSCALE:GREGORIAN
BEGIN:VEVENT
DTEND:20070921T230000Z
UID:69ed7928ebab5
DTSTAMP:20260426T033208Z
LOCATION:0 
DESCRIPTION:
URL;VALUE=URI:
SUMMARY:7. Lauf Rund um den Butterberg / 10. Lauf Lichtenauer Sachsen-Cup 2007
DTSTART:20070921T230000Z
END:VEVENT
END:VCALENDAR
An internal server error occurred.