BEGIN:VCALENDAR
VERSION:2.0
PRODID:-//hacksw/handcal//NONSGML v1.0//EN
CALSCALE:GREGORIAN
BEGIN:VEVENT
DTEND:20070921T230000Z
UID:69ed2133de5cb
DTSTAMP:20260425T211651Z
LOCATION:0 
DESCRIPTION:
URL;VALUE=URI:
SUMMARY:18. Int. Heimerzheimer Halbmarathon mit 28. Swisttaler Volkslauf
DTSTART:20070921T230000Z
END:VEVENT
END:VCALENDAR
An internal server error occurred.