BEGIN:VCALENDAR
VERSION:2.0
PRODID:-//hacksw/handcal//NONSGML v1.0//EN
CALSCALE:GREGORIAN
BEGIN:VEVENT
DTEND:20070915T230000Z
UID:69eaf671825fa
DTSTAMP:20260424T054953Z
LOCATION:0 
DESCRIPTION:
URL;VALUE=URI:
SUMMARY:3. Endersbacher Erbsaglemmerlauf - Weinstädter Lauftage 
DTSTART:20070915T230000Z
END:VEVENT
END:VCALENDAR
An internal server error occurred.