BEGIN:VCALENDAR
VERSION:2.0
PRODID:-//hacksw/handcal//NONSGML v1.0//EN
CALSCALE:GREGORIAN
BEGIN:VEVENT
DTEND:20070914T230000Z
UID:69e99521ca93d
DTSTAMP:20260423T044225Z
LOCATION:0 
DESCRIPTION:
URL;VALUE=URI:
SUMMARY:17. Friedberger Altstadtlauf
DTSTART:20070914T230000Z
END:VEVENT
END:VCALENDAR
An internal server error occurred.