BEGIN:VCALENDAR
VERSION:2.0
PRODID:-//hacksw/handcal//NONSGML v1.0//EN
CALSCALE:GREGORIAN
BEGIN:VEVENT
DTEND:20070914T230000Z
UID:69ecedc2d9ad6
DTSTAMP:20260425T173722Z
LOCATION:0 
DESCRIPTION:
URL;VALUE=URI:
SUMMARY:2. Nieder-Ofleidener Basaltlauf
DTSTART:20070914T230000Z
END:VEVENT
END:VCALENDAR
An internal server error occurred.