BEGIN:VCALENDAR
VERSION:2.0
PRODID:-//hacksw/handcal//NONSGML v1.0//EN
CALSCALE:GREGORIAN
BEGIN:VEVENT
DTEND:20070914T230000Z
UID:69e994f142b89
DTSTAMP:20260423T044137Z
LOCATION:0 
DESCRIPTION:
URL;VALUE=URI:
SUMMARY:5. HELIOS-Grunewaldlauf 
DTSTART:20070914T230000Z
END:VEVENT
END:VCALENDAR
An internal server error occurred.