BEGIN:VCALENDAR
VERSION:2.0
PRODID:-//hacksw/handcal//NONSGML v1.0//EN
CALSCALE:GREGORIAN
BEGIN:VEVENT
DTEND:20070914T230000Z
UID:69ed79234ab91
DTSTAMP:20260426T033203Z
LOCATION:0 
DESCRIPTION:
URL;VALUE=URI:
SUMMARY:17. Messelauf Königshofen- 5 km Hobbylauf- 2-5 km Schülerlauf 
DTSTART:20070914T230000Z
END:VEVENT
END:VCALENDAR
An internal server error occurred.