BEGIN:VCALENDAR
VERSION:2.0
PRODID:-//hacksw/handcal//NONSGML v1.0//EN
CALSCALE:GREGORIAN
BEGIN:VEVENT
DTEND:20070913T230000Z
UID:69e995033283b
DTSTAMP:20260423T044155Z
LOCATION:0 
DESCRIPTION:
URL;VALUE=URI:
SUMMARY:3. Luhdener Straßenlauf  
DTSTART:20070913T230000Z
END:VEVENT
END:VCALENDAR
An internal server error occurred.