BEGIN:VCALENDAR
VERSION:2.0
PRODID:-//hacksw/handcal//NONSGML v1.0//EN
CALSCALE:GREGORIAN
BEGIN:VEVENT
DTEND:20070911T230000Z
UID:69e995080a19f
DTSTAMP:20260423T044200Z
LOCATION:0 
DESCRIPTION:
URL;VALUE=URI:
SUMMARY:9. Solarlauf
DTSTART:20070911T230000Z
END:VEVENT
END:VCALENDAR
An internal server error occurred.