BEGIN:VCALENDAR
VERSION:2.0
PRODID:-//hacksw/handcal//NONSGML v1.0//EN
CALSCALE:GREGORIAN
BEGIN:VEVENT
DTEND:20070911T230000Z
UID:69ecfe9746ba8
DTSTAMP:20260425T184911Z
LOCATION:0 
DESCRIPTION:
URL;VALUE=URI:
SUMMARY:26. Berliner Bahnlaufserie (5. Lauf)
DTSTART:20070911T230000Z
END:VEVENT
END:VCALENDAR
An internal server error occurred.