BEGIN:VCALENDAR
VERSION:2.0
PRODID:-//hacksw/handcal//NONSGML v1.0//EN
CALSCALE:GREGORIAN
BEGIN:VEVENT
DTEND:20070911T230000Z
UID:69e99504405a1
DTSTAMP:20260423T044156Z
LOCATION:0 
DESCRIPTION:
URL;VALUE=URI:
SUMMARY:Meuselwitzer Bahnläufe
DTSTART:20070911T230000Z
END:VEVENT
END:VCALENDAR
An internal server error occurred.