BEGIN:VCALENDAR
VERSION:2.0
PRODID:-//hacksw/handcal//NONSGML v1.0//EN
CALSCALE:GREGORIAN
BEGIN:VEVENT
DTEND:20070911T230000Z
UID:69ecedc0965cc
DTSTAMP:20260425T173720Z
LOCATION:0 
DESCRIPTION:
URL;VALUE=URI:
SUMMARY:Zwickauer Stundenlauf-Serie (5.Lauf)
DTSTART:20070911T230000Z
END:VEVENT
END:VCALENDAR
An internal server error occurred.