BEGIN:VCALENDAR
VERSION:2.0
PRODID:-//hacksw/handcal//NONSGML v1.0//EN
CALSCALE:GREGORIAN
BEGIN:VEVENT
DTEND:20070908T230000Z
UID:69ed86f8c5c33
DTSTAMP:20260426T043104Z
LOCATION:0 
DESCRIPTION:
URL;VALUE=URI:
SUMMARY:3. Lauftag des LKrs. Miltenberg mit dem 10.Landkreis Halbmarathon
DTSTART:20070908T230000Z
END:VEVENT
END:VCALENDAR
An internal server error occurred.