BEGIN:VCALENDAR
VERSION:2.0
PRODID:-//hacksw/handcal//NONSGML v1.0//EN
CALSCALE:GREGORIAN
BEGIN:VEVENT
DTEND:20070908T230000Z
UID:69e9ade2bdf83
DTSTAMP:20260423T062802Z
LOCATION:0 
DESCRIPTION:
URL;VALUE=URI:
SUMMARY:3. Lauftag mit 10. Halbmarathon
DTSTART:20070908T230000Z
END:VEVENT
END:VCALENDAR
An internal server error occurred.