BEGIN:VCALENDAR
VERSION:2.0
PRODID:-//hacksw/handcal//NONSGML v1.0//EN
CALSCALE:GREGORIAN
BEGIN:VEVENT
DTEND:20070908T230000Z
UID:69e99539ac7f4
DTSTAMP:20260423T044249Z
LOCATION:0 
DESCRIPTION:
URL;VALUE=URI:
SUMMARY:5 Volksbank-Münster-Marathon
DTSTART:20070908T230000Z
END:VEVENT
END:VCALENDAR
An internal server error occurred.