BEGIN:VCALENDAR
VERSION:2.0
PRODID:-//hacksw/handcal//NONSGML v1.0//EN
CALSCALE:GREGORIAN
BEGIN:VEVENT
DTEND:20070908T230000Z
UID:69e99535e34d5
DTSTAMP:20260423T044245Z
LOCATION:0 
DESCRIPTION:
URL;VALUE=URI:
SUMMARY:Gemener Burglauf
DTSTART:20070908T230000Z
END:VEVENT
END:VCALENDAR
An internal server error occurred.