BEGIN:VCALENDAR
VERSION:2.0
PRODID:-//hacksw/handcal//NONSGML v1.0//EN
CALSCALE:GREGORIAN
BEGIN:VEVENT
DTEND:20070812T090000Z
UID:69e855e85614a
DTSTAMP:20260422T060024Z
LOCATION:51429 Bergisch Gladbach (Bensberg)
DESCRIPTION:Jeder 1. Sonntag im Monat: Nordic Walking Tour im Rheinisch Bergischen Kreis
URL;VALUE=URI:
SUMMARY:Nordic Walking Tour
DTSTART:20070811T230000Z
END:VEVENT
END:VCALENDAR
An internal server error occurred.