BEGIN:VCALENDAR
VERSION:2.0
PRODID:-//hacksw/handcal//NONSGML v1.0//EN
CALSCALE:GREGORIAN
BEGIN:VEVENT
DTEND:20070908T230000Z
UID:69e97e75cc974
DTSTAMP:20260423T030541Z
LOCATION:0 
DESCRIPTION:
URL;VALUE=URI:
SUMMARY:2. Pfälzer Waldmarathon
DTSTART:20070908T230000Z
END:VEVENT
END:VCALENDAR
An internal server error occurred.