BEGIN:VCALENDAR
VERSION:2.0
PRODID:-//hacksw/handcal//NONSGML v1.0//EN
CALSCALE:GREGORIAN
BEGIN:VEVENT
DTEND:20070907T230000Z
UID:69e93d34227d2
DTSTAMP:20260422T222716Z
LOCATION:0 
DESCRIPTION:
URL;VALUE=URI:
SUMMARY:Ernst-Moritz-Arndt-Lauf Garz
DTSTART:20070907T230000Z
END:VEVENT
END:VCALENDAR
An internal server error occurred.