BEGIN:VCALENDAR
VERSION:2.0
PRODID:-//hacksw/handcal//NONSGML v1.0//EN
CALSCALE:GREGORIAN
BEGIN:VEVENT
DTEND:20070907T230000Z
UID:69ed16b079f8e
DTSTAMP:20260425T203200Z
LOCATION:0 
DESCRIPTION:
URL;VALUE=URI:
SUMMARY:3. Bad Hersfelder Lauf- und Inlinernacht
DTSTART:20070907T230000Z
END:VEVENT
END:VCALENDAR
An internal server error occurred.