BEGIN:VCALENDAR
VERSION:2.0
PRODID:-//hacksw/handcal//NONSGML v1.0//EN
CALSCALE:GREGORIAN
BEGIN:VEVENT
DTEND:20070907T230000Z
UID:69e9953fab581
DTSTAMP:20260423T044255Z
LOCATION:0 
DESCRIPTION:
URL;VALUE=URI:
SUMMARY:3. City-Nachtlauf Herzogenaurach
DTSTART:20070907T230000Z
END:VEVENT
END:VCALENDAR
An internal server error occurred.