BEGIN:VCALENDAR
VERSION:2.0
PRODID:-//hacksw/handcal//NONSGML v1.0//EN
CALSCALE:GREGORIAN
BEGIN:VEVENT
DTEND:20070907T230000Z
UID:69e9ade38216b
DTSTAMP:20260423T062803Z
LOCATION:0 
DESCRIPTION:
URL;VALUE=URI:
SUMMARY:15. Löbauer Berg-Pokal-Lauf
DTSTART:20070907T230000Z
END:VEVENT
END:VCALENDAR
An internal server error occurred.