BEGIN:VCALENDAR
VERSION:2.0
PRODID:-//hacksw/handcal//NONSGML v1.0//EN
CALSCALE:GREGORIAN
BEGIN:VEVENT
DTEND:20070906T230000Z
UID:69e92cc56ea59
DTSTAMP:20260422T211709Z
LOCATION:0 
DESCRIPTION:
URL;VALUE=URI:
SUMMARY:Gerhard-Jaster-Gedächtnislauf
DTSTART:20070906T230000Z
END:VEVENT
END:VCALENDAR
An internal server error occurred.