BEGIN:VCALENDAR
VERSION:2.0
PRODID:-//hacksw/handcal//NONSGML v1.0//EN
CALSCALE:GREGORIAN
BEGIN:VEVENT
DTEND:20070906T230000Z
UID:69ea2d64c8ea5
DTSTAMP:20260423T153204Z
LOCATION:0 
DESCRIPTION:
URL;VALUE=URI:
SUMMARY:6. Lehrter Abend City-Lauf
DTSTART:20070906T230000Z
END:VEVENT
END:VCALENDAR
An internal server error occurred.