BEGIN:VCALENDAR
VERSION:2.0
PRODID:-//hacksw/handcal//NONSGML v1.0//EN
CALSCALE:GREGORIAN
BEGIN:VEVENT
DTEND:20070906T230000Z
UID:69e9884795d93
DTSTAMP:20260423T034735Z
LOCATION:0 
DESCRIPTION:
URL;VALUE=URI:
SUMMARY:15.DREWAG Sommernachts-Lauf
DTSTART:20070906T230000Z
END:VEVENT
END:VCALENDAR
An internal server error occurred.