BEGIN:VCALENDAR
VERSION:2.0
PRODID:-//hacksw/handcal//NONSGML v1.0//EN
CALSCALE:GREGORIAN
BEGIN:VEVENT
DTEND:20070904T230000Z
UID:69e92cc089a48
DTSTAMP:20260422T211704Z
LOCATION:0 
DESCRIPTION:
URL;VALUE=URI:
SUMMARY:5 km Volkslauf am See
DTSTART:20070904T230000Z
END:VEVENT
END:VCALENDAR
An internal server error occurred.