BEGIN:VCALENDAR
VERSION:2.0
PRODID:-//hacksw/handcal//NONSGML v1.0//EN
CALSCALE:GREGORIAN
BEGIN:VEVENT
DTEND:20070904T230000Z
UID:69e9107e5bfec
DTSTAMP:20260422T191630Z
LOCATION:0 
DESCRIPTION:
URL;VALUE=URI:
SUMMARY:Bahnwettbewerb
DTSTART:20070904T230000Z
END:VEVENT
END:VCALENDAR
An internal server error occurred.