BEGIN:VCALENDAR
VERSION:2.0
PRODID:-//hacksw/handcal//NONSGML v1.0//EN
CALSCALE:GREGORIAN
BEGIN:VEVENT
DTEND:20070901T230000Z
UID:69ecb816cc380
DTSTAMP:20260425T134822Z
LOCATION:0 
DESCRIPTION:
URL;VALUE=URI:
SUMMARY:9. Halbmarathon Die Generalprobe
DTSTART:20070901T230000Z
END:VEVENT
END:VCALENDAR
An internal server error occurred.