BEGIN:VCALENDAR
VERSION:2.0
PRODID:-//hacksw/handcal//NONSGML v1.0//EN
CALSCALE:GREGORIAN
BEGIN:VEVENT
DTEND:20070901T230000Z
UID:69e98839aded0
DTSTAMP:20260423T034721Z
LOCATION:0 
DESCRIPTION:
URL;VALUE=URI:
SUMMARY:15. Citylauf Leer
DTSTART:20070901T230000Z
END:VEVENT
END:VCALENDAR
An internal server error occurred.