BEGIN:VCALENDAR
VERSION:2.0
PRODID:-//hacksw/handcal//NONSGML v1.0//EN
CALSCALE:GREGORIAN
BEGIN:VEVENT
DTEND:20070901T230000Z
UID:69e988298b0ec
DTSTAMP:20260423T034705Z
LOCATION:0 
DESCRIPTION:
URL;VALUE=URI:
SUMMARY:18. Drestedter Siebenmeilenstiefellauf
DTSTART:20070901T230000Z
END:VEVENT
END:VCALENDAR
An internal server error occurred.