BEGIN:VCALENDAR
VERSION:2.0
PRODID:-//hacksw/handcal//NONSGML v1.0//EN
CALSCALE:GREGORIAN
BEGIN:VEVENT
DTEND:20070901T230000Z
UID:69ed82481ee98
DTSTAMP:20260426T041104Z
LOCATION:0 
DESCRIPTION:
URL;VALUE=URI:
SUMMARY:35. Int. Volkslauf Mühlheim -Benefizlauf für Uwe Heyser -
DTSTART:20070901T230000Z
END:VEVENT
END:VCALENDAR
An internal server error occurred.