BEGIN:VCALENDAR
VERSION:2.0
PRODID:-//hacksw/handcal//NONSGML v1.0//EN
CALSCALE:GREGORIAN
BEGIN:VEVENT
DTEND:20070901T230000Z
UID:69ea2d6a9a83d
DTSTAMP:20260423T153210Z
LOCATION:0 
DESCRIPTION:
URL;VALUE=URI:
SUMMARY:13. Kasseler Frauenlauf
DTSTART:20070901T230000Z
END:VEVENT
END:VCALENDAR
An internal server error occurred.