BEGIN:VCALENDAR
VERSION:2.0
PRODID:-//hacksw/handcal//NONSGML v1.0//EN
CALSCALE:GREGORIAN
BEGIN:VEVENT
DTEND:20070901T230000Z
UID:69e9883c1f10c
DTSTAMP:20260423T034724Z
LOCATION:0 
DESCRIPTION:
URL;VALUE=URI:
SUMMARY:Fränkische Schweiz-Marathon
DTSTART:20070901T230000Z
END:VEVENT
END:VCALENDAR
An internal server error occurred.