BEGIN:VCALENDAR
VERSION:2.0
PRODID:-//hacksw/handcal//NONSGML v1.0//EN
CALSCALE:GREGORIAN
BEGIN:VEVENT
DTEND:20070901T230000Z
UID:69ed93995d777
DTSTAMP:20260426T052457Z
LOCATION:0 
DESCRIPTION:
URL;VALUE=URI:
SUMMARY:15. Int. Halbmarathon und 10km-Straßenlauf- Halbmarathon Start 10:25- 10km Start 10:00
DTSTART:20070901T230000Z
END:VEVENT
END:VCALENDAR
An internal server error occurred.