BEGIN:VCALENDAR
VERSION:2.0
PRODID:-//hacksw/handcal//NONSGML v1.0//EN
CALSCALE:GREGORIAN
BEGIN:VEVENT
DTEND:20070901T230000Z
UID:69ed74b39464a
DTSTAMP:20260426T031307Z
LOCATION:0 
DESCRIPTION:
URL;VALUE=URI:
SUMMARY:12. Dieter Meinecke-Lauf- 10km Straßenlauf + 5km Jedermannslauf
DTSTART:20070901T230000Z
END:VEVENT
END:VCALENDAR
An internal server error occurred.