BEGIN:VCALENDAR
VERSION:2.0
PRODID:-//hacksw/handcal//NONSGML v1.0//EN
CALSCALE:GREGORIAN
BEGIN:VEVENT
DTEND:20070901T230000Z
UID:69e987e00568f
DTSTAMP:20260423T034552Z
LOCATION:0 
DESCRIPTION:
URL;VALUE=URI:
SUMMARY:AOK-Panorama-Cross-Lauf
DTSTART:20070901T230000Z
END:VEVENT
END:VCALENDAR
An internal server error occurred.