BEGIN:VCALENDAR
VERSION:2.0
PRODID:-//hacksw/handcal//NONSGML v1.0//EN
CALSCALE:GREGORIAN
BEGIN:VEVENT
DTEND:20070901T230000Z
UID:69e93d47c0b60
DTSTAMP:20260422T222735Z
LOCATION:0 
DESCRIPTION:
URL;VALUE=URI:
SUMMARY:30. Int. Altenaulauf
DTSTART:20070901T230000Z
END:VEVENT
END:VCALENDAR
An internal server error occurred.