BEGIN:VCALENDAR
VERSION:2.0
PRODID:-//hacksw/handcal//NONSGML v1.0//EN
CALSCALE:GREGORIAN
BEGIN:VEVENT
DTEND:20070901T230000Z
UID:69ed8fcdf4135
DTSTAMP:20260426T050845Z
LOCATION:0 
DESCRIPTION:
URL;VALUE=URI:
SUMMARY:6. Thür.-Florena-Frauenlauf u. 9. Erfurter Volkslauf
DTSTART:20070901T230000Z
END:VEVENT
END:VCALENDAR
An internal server error occurred.