BEGIN:VCALENDAR
VERSION:2.0
PRODID:-//hacksw/handcal//NONSGML v1.0//EN
CALSCALE:GREGORIAN
BEGIN:VEVENT
DTEND:20070901T230000Z
UID:69e91077427ac
DTSTAMP:20260422T191623Z
LOCATION:0 
DESCRIPTION:
URL;VALUE=URI:
SUMMARY:31. Mommelsteinlauf
DTSTART:20070901T230000Z
END:VEVENT
END:VCALENDAR
An internal server error occurred.