BEGIN:VCALENDAR
VERSION:2.0
PRODID:-//hacksw/handcal//NONSGML v1.0//EN
CALSCALE:GREGORIAN
BEGIN:VEVENT
DTEND:20070901T230000Z
UID:69ea85f7315f2
DTSTAMP:20260423T214959Z
LOCATION:0 
DESCRIPTION:
URL;VALUE=URI:
SUMMARY:30.Stauseelauf / 9. Lauf Lichtenauer Sachsen-Cup 2007 
DTSTART:20070901T230000Z
END:VEVENT
END:VCALENDAR
An internal server error occurred.