BEGIN:VCALENDAR
VERSION:2.0
PRODID:-//hacksw/handcal//NONSGML v1.0//EN
CALSCALE:GREGORIAN
BEGIN:VEVENT
DTEND:20070901T230000Z
UID:69eaf1e0e1d8a
DTSTAMP:20260424T053024Z
LOCATION:0 
DESCRIPTION:
URL;VALUE=URI:
SUMMARY:17.Halbmarathon Straßenlauf + 12. Nationaler Volkslauf
DTSTART:20070901T230000Z
END:VEVENT
END:VCALENDAR
An internal server error occurred.