BEGIN:VCALENDAR
VERSION:2.0
PRODID:-//hacksw/handcal//NONSGML v1.0//EN
CALSCALE:GREGORIAN
BEGIN:VEVENT
DTEND:20070901T230000Z
UID:69e972c44d5b3
DTSTAMP:20260423T021548Z
LOCATION:0 
DESCRIPTION:
URL;VALUE=URI:
SUMMARY:Südpfalzlauf
DTSTART:20070901T230000Z
END:VEVENT
END:VCALENDAR
An internal server error occurred.