BEGIN:VCALENDAR
VERSION:2.0
PRODID:-//hacksw/handcal//NONSGML v1.0//EN
CALSCALE:GREGORIAN
BEGIN:VEVENT
DTEND:20070831T230000Z
UID:69e8f9995fa94
DTSTAMP:20260422T173849Z
LOCATION:0 
DESCRIPTION:
URL;VALUE=URI:
SUMMARY:Parklauf
DTSTART:20070831T230000Z
END:VEVENT
END:VCALENDAR
An internal server error occurred.